BEGIN:VCALENDAR
VERSION:2.0
PRODID:-//Contratero//ES
CALSCALE:GREGORIAN
METHOD:PUBLISH
BEGIN:VEVENT
UID:EXP 70010 2023 088@contratero.es
DTSTAMP:20260422T194302Z
DTSTART:20231231T235959
DTEND:20240101T005959
SUMMARY:Cierre: Servicio de mantenimiento informático
DESCRIPTION:Servicio de mantenimiento informático\\n\\nOrganismo: Vicepresidencia del Organismo Autónomo Municipal Parques y Jardines Singulares y Escuela Municipal de Jardineria y Paisaje\\n\\nVer en Contratero: https://contratero.es/contracts/EXP 70010 2023 088
URL:https://contratero.es/contracts/EXP 70010 2023 088
STATUS:CONFIRMED
BEGIN:VALARM
TRIGGER:-P1D
ACTION:DISPLAY
DESCRIPTION:Recordatorio: Servicio de mantenimiento info
END:VALARM
END:VEVENT
END:VCALENDAR